BEGIN:VCALENDAR
VERSION:2.0
PRODID:-//Program NEON - ECPv5.1.0//NONSGML v1.0//EN
CALSCALE:GREGORIAN
METHOD:PUBLISH
X-WR-CALNAME:Program NEON
X-ORIGINAL-URL:https://www.programneon.eu
X-WR-CALDESC:Events for Program NEON
BEGIN:VTIMEZONE
TZID:Europe/Ljubljana
BEGIN:DAYLIGHT
TZOFFSETFROM:+0100
TZOFFSETTO:+0200
TZNAME:CEST
DTSTART:20190331T010000
END:DAYLIGHT
BEGIN:STANDARD
TZOFFSETFROM:+0200
TZOFFSETTO:+0100
TZNAME:CET
DTSTART:20191027T010000
END:STANDARD
END:VTIMEZONE
BEGIN:VEVENT
DTSTART;TZID=Europe/Ljubljana:20191011T090000
DTEND;TZID=Europe/Ljubljana:20191011T160000
DTSTAMP:20260420T131920
CREATED:20190814T102059Z
LAST-MODIFIED:20190904T142012Z
UID:1629-1570784400-1570809600@www.programneon.eu
SUMMARY:Zaključna konferenca "Preventiva nasilja za zdravje in psihosocialno dobrobit otrok in mladih"
DESCRIPTION:Več informacij o konferenci je na voljo tukaj. \n
URL:https://www.programneon.eu/dogodek/zakljucna-konferenca-preventiva-nasilja-za-zdravje-in-psihosocialno-dobrobit-otrok-in-mladih/
LOCATION:Cankarjev dom Vrhnika\, Tržaška cesta 25\, Vrhnika\, 1360\, Slovenija
END:VEVENT
END:VCALENDAR