BEGIN:VCALENDAR
VERSION:2.0
PRODID:-//Program NEON - ECPv5.1.0//NONSGML v1.0//EN
CALSCALE:GREGORIAN
METHOD:PUBLISH
X-WR-CALNAME:Program NEON
X-ORIGINAL-URL:https://www.programneon.eu
X-WR-CALDESC:Events for Program NEON
BEGIN:VTIMEZONE
TZID:Europe/Ljubljana
BEGIN:DAYLIGHT
TZOFFSETFROM:+0100
TZOFFSETTO:+0200
TZNAME:CEST
DTSTART:20170326T010000
END:DAYLIGHT
BEGIN:STANDARD
TZOFFSETFROM:+0200
TZOFFSETTO:+0100
TZNAME:CET
DTSTART:20171029T010000
END:STANDARD
END:VTIMEZONE
BEGIN:VEVENT
DTSTART;TZID=Europe/Ljubljana:20171018T000000
DTEND;TZID=Europe/Ljubljana:20171018T000000
DTSTAMP:20260420T160736
CREATED:20171007T143727Z
LAST-MODIFIED:20171007T144302Z
UID:315-1508284800-1508284800@www.programneon.eu
SUMMARY:Uvodni posvet za pripravo programa
DESCRIPTION:»VARNI BREZ NASILJA: celostni program primarne preventive nasilja nad vrstniki in spolnega nasilja na škodo otrok in mladostnikov«\n\n
URL:https://www.programneon.eu/dogodek/uvodni-posvet-za-pripravo-programa/
LOCATION:Cankarjev dom Vrhnika\, Tržaška cesta 25\, Vrhnika\, 1360\, Slovenija
END:VEVENT
END:VCALENDAR