BEGIN:VCALENDAR
VERSION:2.0
PRODID:-//Program NEON - ECPv5.1.0//NONSGML v1.0//EN
CALSCALE:GREGORIAN
METHOD:PUBLISH
X-WR-CALNAME:Program NEON
X-ORIGINAL-URL:https://www.programneon.eu
X-WR-CALDESC:Events for Program NEON
BEGIN:VTIMEZONE
TZID:Europe/Ljubljana
BEGIN:DAYLIGHT
TZOFFSETFROM:+0100
TZOFFSETTO:+0200
TZNAME:CEST
DTSTART:20190331T010000
END:DAYLIGHT
BEGIN:STANDARD
TZOFFSETFROM:+0200
TZOFFSETTO:+0100
TZNAME:CET
DTSTART:20191027T010000
END:STANDARD
END:VTIMEZONE
BEGIN:VEVENT
DTSTART;TZID=Europe/Ljubljana:20190327T090000
DTEND;TZID=Europe/Ljubljana:20190327T160000
DTSTAMP:20260420T144036
CREATED:20180903T111055Z
LAST-MODIFIED:20180903T111055Z
UID:884-1553677200-1553702400@www.programneon.eu
SUMMARY:Usposabljanje za izvajanje programa "Varni brez nasilja" v srednji šoli
DESCRIPTION:USPOSABLJANJE ZA IZVAJANJE PROGRAMA “VARNI BREZ NASILJA” V SREDNJI ŠOLI\nVrhnika\, 15. – 16. in 27. marec 2019\nV okviru projekta bomo v mesecu marcu 2019 organizirali usposabljanje za izvajanje programa “Varni brez nasilja”\, ki je namenjen dijakom in dijakinjam v srednji šoli. \nVsebine usposabljanja\n\nPrimarna preventiva in program »Varni brez nasilja«\nIzvedba programa NEON v srednji šoli\nProblem nasilja nad vrstniki\, spolnega nasilja in nasilja v intimno-partnerskih odnosih\nUstrezen odziv na stisko mladostnika/mladostnice in na razkritje nasilja\, pogovor z mladostnikom/mladostnico o nasilju\, zlorabi\nZaščita mladostnika/mladostnice v primeru izkušnje nasilja\nViri podpore in pomoči\, ki so na voljo osebam z izkušnjo/izkušnjami nasilja.\n\nProgram usposabljanja predstavljamo v vabilu. \n\nIzvedba programa usposabljanja\nUsposabljanje bo potekalo za skupino udeleženk in udeležencev iz srednjih šol\, ki bodo v okviru projekta »Varni brez nasilja« sodelovale pri testni izvedbi in evalvaciji programa. \n\nČas in kraj usposabljanja \nUsposabljanje bo potekalo v mesecu marcu v dveh modulih v skupnem obsegu 24 pedagoških ur. \nGradivo \nUdeleženci in udeleženke usposabljanja bodo prejeli priročnik za izvajanje preventivnih aktivnosti ter predloge gradiva kot »pripomočke« za uspešno izvedbo preventivnih aktivnosti z vsemi ciljnimi skupinami. \nOblike in metode dela \n\npredavanje\,\ndelo v malih skupinah\,\nprakticiranje iger vlog za izvedbo delavnic za otroke\,\nuporaba video gradiva in drugih učnih pripomočkov\,\nobravnava praktičnih primerov.\n\n\nIzvajalke usposabljanja\nUsposabljanje bo izvajal tim izvajalk\, ki imajo vrsto let izkušenj izvajanja preventivnega dela na področju nasilja nad otroki\, bogate izkušnje s področja obravnave problematike zlorabe in zanemarjanja otrok\, nasilja v družini\, zaščite otrok in odraslih – žrtev nasilja. Nosilki usposabljanja bosta Katja Zabukovec Kerin in mag. Mateja Štirn\, univ. dipl. psih.. \n\nUdeleženci in udeleženke usposabljanja:\n\nSe bodo usposobili za izvajanje delavnic programa NEON v srednji šoli.\nPridobili bodo znanja in veščine s področja preventivnega dela\, problematike nasilja nad vrstniki\, spolnega nasilja in nasilja v intimno-partnerskih odnosih.\nPridobili bodo znanja in veščine za odziv na stisko mladih in njihovih staršev v primerih suma ali razkritij nasilja ali zlorabe mladostnika/mladostnice.\nImeli bodo možnost obravnave konkretnih primerov\, s katerimi se srečujejo v svojem delovnem okolju.\n\n
URL:https://www.programneon.eu/dogodek/usposabljanje-za-izvajanje-programa-varni-brez-nasilja-v-srednji-soli-4/
ATTACH;FMTTYPE=image/png:https://www.programneon.eu/wp-content/uploads/2017/10/neon_logo120.png
END:VEVENT
END:VCALENDAR