BEGIN:VCALENDAR
VERSION:2.0
PRODID:-//Program NEON - ECPv5.1.0//NONSGML v1.0//EN
CALSCALE:GREGORIAN
METHOD:PUBLISH
X-WR-CALNAME:Program NEON
X-ORIGINAL-URL:https://www.programneon.eu
X-WR-CALDESC:Events for Program NEON
BEGIN:VTIMEZONE
TZID:Europe/Ljubljana
BEGIN:DAYLIGHT
TZOFFSETFROM:+0100
TZOFFSETTO:+0200
TZNAME:CEST
DTSTART:20190331T010000
END:DAYLIGHT
BEGIN:STANDARD
TZOFFSETFROM:+0200
TZOFFSETTO:+0100
TZNAME:CET
DTSTART:20191027T010000
END:STANDARD
END:VTIMEZONE
BEGIN:VEVENT
DTSTART;TZID=Europe/Ljubljana:20190510T090000
DTEND;TZID=Europe/Ljubljana:20190511T160000
DTSTAMP:20260420T155831
CREATED:20180903T103922Z
LAST-MODIFIED:20180911T144026Z
UID:868-1557478800-1557590400@www.programneon.eu
SUMMARY:Usposabljanje za izvajanje CAP programa za preventivo nasilja in zlorabe otrok v osnovni šoli
DESCRIPTION:USPOSABLJANJE ZA IZVAJANJE CAP PROGRAMA ZA PREVENTIVO NASILJA IN ZLORABE OTROK V OSNOVNI ŠOLI\nSavinjska regija\, 10. – 11. in 17. maj 2019 & junij 2019\nV okviru projekta bomo med v mesecu maju in juniju 2019 organizirali usposabljanje za izvajanje CAP programa za preventivo nasilja in zlorabe otrok\, ki je namenjen otrokom v osnovni šoli. \nVsebine usposabljanja\n\nPrimarna preventiva in program »Varni brez nasilja«\nIzvedba programa v osnovni šoli\nProblem nasilja v družini\, nasilja nad vrstniki\, zlorabe in zanemarjanja otrok\nUstrezen odziv na otrokovo stisko\, pogovor z otrokom o nasilju\, zlorabi\, zaščita otroka\n\nProgram usposabljanja predstavljamo v  vabilu. \nIzvedba programa usposabljanja\nUsposabljanje bo namenjeno strokovnim delavcem v osnovnih šolah\, ki so sodelovale pri testni izvedbi programa “Varni brez nasilja” ter pri izvedbi nacionalne raziskave o pojavnosti izkušenj medvrstniškega in spolnega nasilja\, ki jih imajo otroci\, mladostnice in mladostniki. \nČas in kraj usposabljanja \nUsposabljanje bo potekalo v treh modulih v skupnem obsegu 32 pedagoških ur. Prvi in drugi modul bosta potekala v maju 2019\, tretji modul pa predvidoma v juniju 2019. \nGradivo \nUdeleženci in udeleženke usposabljanja bodo prejeli priročnik za izvajanje preventivnih aktivnosti ter predloge gradiva za otroke in starše kot »pripomočke« za uspešno izvedbo preventivnih aktivnosti z vsemi ciljnimi skupinami. \nOblike in metode dela \n\npredavanje\,\ndelo v malih skupinah\,\nprakticiranje iger vlog za izvedbo delavnic za otroke\,\nuporaba video gradiva in drugih učnih pripomočkov\,\nobravnava praktičnih primerov.\n\nIzvajalke usposabljanja\nUsposabljanje bo izvajal tim izvajalk\, ki imajo vrsto let izkušenj izvajanja preventivnega dela na področju nasilja nad otroki\, bogate izkušnje s področja obravnave problematike zlorabe in zanemarjanja otrok\, nasilja v družini\, zaščite otrok in odraslih – žrtev nasilja. Nosilki usposabljanja bosta Nerina Bonassin-Battelli\, univ. dipl. psih. in mag. Mateja Štirn\, univ. dipl. psih.. \nUdeleženci in udeleženke usposabljanja:\n\nSe bodo usposobili za izvajanje delavnic za otroke v osnovni šoli\nPridobili bodo znanja in veščine s področja preventivnega dela in problematike nasilja in zlorabe\, zanemarjanja otrok.\nPridobili bodo znanja in veščine za odziv na stisko otrok in staršev v primerih suma ali razkritij nasilja ali zlorabe\, zanemarjanja otroka.\nImeli bodo možnost obravnave konkretnih primerov\, s katerimi se srečujejo v svojem delovnem okolju.\n\n
URL:https://www.programneon.eu/dogodek/usposabljanje-za-izvajanje-programa-varni-brez-nasilja-v-osnovni-soli/
ATTACH;FMTTYPE=image/jpeg:https://www.programneon.eu/wp-content/uploads/2017/10/NEON-Slika-osnovna-1150.jpg
END:VEVENT
END:VCALENDAR