BEGIN:VCALENDAR
VERSION:2.0
PRODID:-//Program NEON - ECPv5.1.0//NONSGML v1.0//EN
CALSCALE:GREGORIAN
METHOD:PUBLISH
X-WR-CALNAME:Program NEON
X-ORIGINAL-URL:https://www.programneon.eu
X-WR-CALDESC:Events for Program NEON
BEGIN:VTIMEZONE
TZID:Europe/Ljubljana
BEGIN:DAYLIGHT
TZOFFSETFROM:+0100
TZOFFSETTO:+0200
TZNAME:CEST
DTSTART:20220327T010000
END:DAYLIGHT
BEGIN:STANDARD
TZOFFSETFROM:+0200
TZOFFSETTO:+0100
TZNAME:CET
DTSTART:20221030T010000
END:STANDARD
END:VTIMEZONE
BEGIN:VEVENT
DTSTART;TZID=Europe/Ljubljana:20220331T080000
DTEND;TZID=Europe/Ljubljana:20220402T170000
DTSTAMP:20260422T100221
CREATED:20200903T071257Z
LAST-MODIFIED:20210907T061134Z
UID:2079-1648713600-1648918800@www.programneon.eu
SUMMARY:Usposabljanje za izvajanje Programa NEON - Varni brez vrstniškega nasilja za OŠ\, 2. termin
DESCRIPTION:\nUSPOSABLJANJE ZA IZVAJANJE PROGRAMA NEON VARNI BREZ VRSTNIŠKEGA NASILJA \nZreče\, 31. marec – 2. in 14. april 2022\n  \nSpoštovani\, \nvabimo vas na brezplačno usposabljanje za izvajanje Programa NEON – Varni brez vrstniškega nasilja\, ki je namenjen otrokom v osnovni šoli od 3. do 8. razreda\, njihovim staršem in zaposlenim v šoli. \nProgram NEON – Varni brez nasilja\nje celostni program primarne preventive vrstniškega in spolnega nasilja na škodo otrok\, mladostnic in mladostnikov. V programu smo povezali programa\, ki ju v Sloveniji izvajamo že vrsto let in sta s strani otrok\, staršev in strokovnih delavcev in strokovnih delavk v vzgojno-izobraževalnih zavodih prepoznana kot primerna oblika preventivnega dela. Gre za »CAP program za preventivo nasilja in zlorabe otrok« in program Brez nasilja nad vrstniki. Programa smo nadgradili z vsebinami za krepitev socialnih in čustvenih kompetenc otrok in modulom za dijake. \nVeč informacij o Programu NEON – Varni brez vrstniškega nasilja najdete  v tej datoteki. \n
URL:https://www.programneon.eu/dogodek/usposabljanje-za-izvajanje-programa-neon-varni-brez-vrstniskega-nasilja-2-termin/
ATTACH;FMTTYPE=image/png:https://www.programneon.eu/wp-content/uploads/2017/10/madul-DRUGA-triada-velika-1-copy.png
END:VEVENT
END:VCALENDAR