BEGIN:VCALENDAR
VERSION:2.0
PRODID:-//Program NEON - ECPv5.1.0//NONSGML v1.0//EN
CALSCALE:GREGORIAN
METHOD:PUBLISH
X-WR-CALNAME:Program NEON
X-ORIGINAL-URL:https://www.programneon.eu
X-WR-CALDESC:Events for Program NEON
BEGIN:VTIMEZONE
TZID:Europe/Ljubljana
BEGIN:DAYLIGHT
TZOFFSETFROM:+0100
TZOFFSETTO:+0200
TZNAME:CEST
DTSTART:20210328T010000
END:DAYLIGHT
BEGIN:STANDARD
TZOFFSETFROM:+0200
TZOFFSETTO:+0100
TZNAME:CET
DTSTART:20211031T010000
END:STANDARD
END:VTIMEZONE
BEGIN:VEVENT
DTSTART;TZID=Europe/Ljubljana:20211105T080000
DTEND;TZID=Europe/Ljubljana:20211106T170000
DTSTAMP:20260420T130845
CREATED:20200902T133906Z
LAST-MODIFIED:20210907T055524Z
UID:2065-1636099200-1636218000@www.programneon.eu
SUMMARY:Usposabljanje za izvajanje Programa NEON v vrtcu
DESCRIPTION:\nUSPOSABLJANJE ZA IZVAJANJE PROGRAMA NEON V VRTCU \n\nVrhnika\, 5.\, 6. in 19. november 2021\n  \nSpoštovani\, \nvabimo vas na brezplačno usposabljanje za izvajanje Programa NEON za preventivo nasilja in zlorabe otrok\, ki je namenjen otrokom v vrtcu\, njihovim staršem in zaposlenim v vrtcu. \nProgram NEON – Varni brez nasilja\nje celostni program primarne preventive vrstniškega in spolnega nasilja na škodo otrok\, mladostnic in mladostnikov. V programu smo povezali programa\, ki ju v Sloveniji izvajamo že vrsto let in sta s strani otrok\, staršev in strokovnih delavcev in strokovnih delavk v vzgojno-izobraževalnih zavodih prepoznana kot primerna oblika preventivnega dela. Gre za »CAP program za preventivo nasilja in zlorabe otrok« in program Brez nasilja nad vrstniki. \nProgram NEON za preventivo nasilja in zlorabe otrok je primarno preventivni program\, s katerim delujemo proaktivno s ciljem razviti in krepiti varovalne dejavnike otrok\, da bi se znali in zmogli zaščititi pred nasiljem\, zlorabo. Osnovno sporočilo programa otrokom in odraslim je\, da imajo vsi otroci pravico\, da so VARNI\, MOČNI in SVOBODNI. \nVeč informacij o Programu NEON za vrtce najdete v tej datoteki. \n
URL:https://www.programneon.eu/dogodek/usposabljanje-za-izvajanje-programa-neon-v-vrtcu/
LOCATION:Cankarjev dom Vrhnika\, Tržaška cesta 25\, Vrhnika\, 1360\, Slovenija
ATTACH;FMTTYPE=image/png:https://www.programneon.eu/wp-content/uploads/2017/12/madul-PREDSOLSKI-velika-1-NOVA-2.png
END:VEVENT
END:VCALENDAR