BEGIN:VCALENDAR
VERSION:2.0
PRODID:-//Program NEON - ECPv5.1.0//NONSGML v1.0//EN
CALSCALE:GREGORIAN
METHOD:PUBLISH
X-WR-CALNAME:Program NEON
X-ORIGINAL-URL:https://www.programneon.eu
X-WR-CALDESC:Events for Program NEON
BEGIN:VTIMEZONE
TZID:Europe/Ljubljana
BEGIN:DAYLIGHT
TZOFFSETFROM:+0100
TZOFFSETTO:+0200
TZNAME:CEST
DTSTART:20200329T010000
END:DAYLIGHT
BEGIN:STANDARD
TZOFFSETFROM:+0200
TZOFFSETTO:+0100
TZNAME:CET
DTSTART:20201025T010000
END:STANDARD
END:VTIMEZONE
BEGIN:VEVENT
DTSTART;TZID=Europe/Ljubljana:20200116T080000
DTEND;TZID=Europe/Ljubljana:20200116T170000
DTSTAMP:20260420T131522
CREATED:20190904T133542Z
LAST-MODIFIED:20190904T133542Z
UID:1679-1579161600-1579194000@www.programneon.eu
SUMMARY:Program VIGOR – Uspešno obvladovanje stresa za zdravje in dobro počutje
DESCRIPTION:PROGRAM »VIGOR«\nUSPEŠNO OBVLADOVANJE STRESA ZA ZDRAVJE IN DOBRO POČUTJE\nUSPOSABLJANJE ZA IZVAJANJE DELAVNIC ZA OTROKE \n  \nVrhnika\, 16. januar 2020 \nVABILO\n  \nSpoštovani\, \nvabimo vas\, da se nam pridružite na usposabljanju za izvajanje Programa »VIGOR« za uspešno obvladovanje stresa za zdravje in dobro počutje\, na katerem boste pridobili veščine za izvedbo delavnic z otroki v osnovni šoli. \n  \nVsebine usposabljanja\n\nMiti in dejstva o stresu\nKako se odzivamo v stresnih situacijah?\nKdo/kaj povzroča stres?\nZakaj je pomembno\, da smo dobri »detektivi stresa« (o znakih in posledicah stresa)\nMultimodalni pristop za uspešno upravljanje s stresom\nKako se lahko sprostimo v razredu in doma?\nOsebna prožnost je pomemben varovalni dejavnik za uspešno obvladovanje stresa.\nKaj lahko naredite v razredu\, da bi dobro izkoristili energijo stresa?\n\n  \nProgram usposabljanja je predstavljen v nadaljevanju. \n  \nUsposabljanje je namenjeno strokovnim delavkam in strokovnim delavcem v osnovnih šolah. \n  \nIzvedba usposabljanja\nUposabljanje bo potekalo za odprto skupino udeleženk in udeležencev. \n  \nGradiva:\nudeleženci in udeleženke usposabljanja boste prejeli gradivo s priporočili za uspešno izvedbo delavnic z otroki. \n  \n  \nOblike in metode dela:\n\npredavanje\,\ndelo v parih in malih skupinah\,\nuporaba video gradiva in drugih učnih pripomočkov\,\nobravnava praktičnih primerov.\n\n  \nIzvajalka usposabljanja\nUsposabljanje bo izvajala mag. Mateja Štirn\, univ. dipl. psih.\, ki ima vrsto let izkušenj izvajanja preventivnega dela na področju razvoja osebne prožnosti in uspešnega upravljanja s stresom. \n  \nKaj boste pridobili z udeležbo na usposabljanju?\n\nUsposobili se boste za izvajanje preventivnih delavnic za krepitev veščin uspešnega obvladovanja stresa pri otrocih.\nPridobili boste znanja in veščine za uspešno upravljanje s stresom in krepitev osebne prožnosti.\n\n\nKdaj in kje bo potekalo usposabljanje?\nUsposabljanje bo potekalo 16. januarja 2020\, v obsegu 8 pedagoških ur. \n  \nKraj usposabljanja: Cankarjev dom na Vrhniki. \n  \nKako se lahko prijavite?\nStrokovne delavke in strokovni delavci iz vzgojno-izobraževalnih zavodov lahko prijavo za udeležbo na usposabljanju oddate preko sistema KATIS. \n  \nUdeleženke in udeleženci\, ki niste zaposleni v VIZ\, lahko prijavo oddate preko spletne prijavnice. \n  \nRok za oddajo prijave je 10. december 2019. \nŠtevilo mest je omejeno\, zato vas vabimo\, da svojo prijave oddate čim prej. \n  \nKoliko znaša kotizacija?\n\nKotizacija za strokovne delavce in strokovne delavke v VIZ\, ki se bodo prijavili prek sistema KATIS\, znaša 54\,77 € (z ddv) na osebo.\nRedna cena za 1-dnevno usposabljanje znaša 73\,00 € (z ddv) na osebo.\n\n  \nV ceno so všteti stroški priprave in izvedbe usposabljanja\, pisnega in e-gradiva ter potrdil o udeležbi. \n  \nZa plačilo kotizacije za udeležbo na usposabljanju vam bomo na podlagi vaše prijave poslali račun oz. e-račun. \n  \nV primeru\, da se usposabljanja ne boste mogli udeležiti\, nam svojo odjavo udeležbe sporočite najkasneje do 20. decembra 2019. Pri kasnejših odjavah bo potrebno plačilo celotne kotizacije. \n  \nDodatne informacije o usposabljanju:\nza dodatne informacije o usposabljanju smo vam na voljo preko e-pošte (info@isainstitut.si) in telefona (059 016 138). \n  \n  \nPrijazno vabljeni\, \nmag. Mateja Štirn \nISA institut \n  \nProgram usposabljanja\n  \n
URL:https://www.programneon.eu/dogodek/program-vigor-uspesno-obvladovanje-stresa-za-zdravje-in-dobro-pocutje/
LOCATION:Cankarjev dom Vrhnika\, Tržaška cesta 25\, Vrhnika\, 1360\, Slovenija
ATTACH;FMTTYPE=image/jpeg:https://www.programneon.eu/wp-content/uploads/2019/09/vigor3.jpg
END:VEVENT
END:VCALENDAR