BEGIN:VCALENDAR
VERSION:2.0
PRODID:-//Program NEON - ECPv5.1.0//NONSGML v1.0//EN
CALSCALE:GREGORIAN
METHOD:PUBLISH
X-WR-CALNAME:Program NEON
X-ORIGINAL-URL:https://www.programneon.eu
X-WR-CALDESC:Events for Program NEON
BEGIN:VTIMEZONE
TZID:Europe/Ljubljana
BEGIN:DAYLIGHT
TZOFFSETFROM:+0100
TZOFFSETTO:+0200
TZNAME:CEST
DTSTART:20210328T010000
END:DAYLIGHT
BEGIN:STANDARD
TZOFFSETFROM:+0200
TZOFFSETTO:+0100
TZNAME:CET
DTSTART:20211031T010000
END:STANDARD
END:VTIMEZONE
BEGIN:VEVENT
DTSTART;TZID=Europe/Ljubljana:20210325T130000
DTEND;TZID=Europe/Ljubljana:20210325T151500
DTSTAMP:20260420T143848
CREATED:20210225T090121Z
LAST-MODIFIED:20210225T090354Z
UID:2378-1616677200-1616685300@www.programneon.eu
SUMMARY:Nadaljevalno usposabljanje za izvajalke in izvajalce Programa NEON
DESCRIPTION:NADALJEVALNO USPOSABLJANJE ZA IZVAJALKE IN IZVAJALCE PROGRAMOV NEON\n12. in 25. marec 2021\, spletna izvedba \n  \nSpoštovani\, \nvabimo vas\, da se nam 12. in 25. marca pridružite na nadaljevalnem usposabljanju za izvajalke in izvajalce\, ki v vrtcih\, osnovnih šolah in drugih vzgojno-izobraževalnih zavodih izvajate Programe NEON – Varni brez nasilja.\nUpoštevaje trenutne ukrepe bo usposabljanje potekalo v dveh delih na spletu. \nOsrednji temi letošnjega usposabljanja bosta varnost otrok na spletu in spolno vedenje otrok.\nUsposabljanje bo priložnost\, da nadgradite svoja znanja o problematiki nasilja in zlorabe otrok in izmenjate izkušnje z izvajanjem Programov NEON v vrtcih in osnovnih šolah. \nUdeležba na usposabljanju je brezplačna. \nPrijavo za udeležbo na usposabljanju lahko oddate s pomočjo spletne prijavnice\, najkasneje do 3. marca 2021.\nŠtevilo mest za udeležbo na dogodku je omejeno. \nVeč informacij o usposabljanju lahko najdete v tej prilogi. \n  \nVabljeni! \n
URL:https://www.programneon.eu/dogodek/nadaljevalno-usposabljanje-za-izvajalke-in-izvejalce-programa-neon/
END:VEVENT
END:VCALENDAR